BEGIN:VCALENDAR
PRODID:-//github.com/rianjs/ical.net//NONSGML ical.net 4.0//EN
VERSION:2.0
BEGIN:VEVENT
DESCRIPTION:Details:\nhttps://bbyo.org/bbyo-near-you/regions/greater-atlan
 ta-region/atl-bbyo-connect-ice-skating-2015
DTEND:20151213T220000
DTSTAMP:20260425T194027Z
DTSTART:20151213T203000
LOCATION:The Cooler
SEQUENCE:0
SUMMARY:ATL-BBYO Connect Ice Skating-2015
UID:a708d841-8b15-44ab-a518-e3385d517718
END:VEVENT
END:VCALENDAR
