BEGIN:VCALENDAR
PRODID:-//github.com/rianjs/ical.net//NONSGML ical.net 4.0//EN
VERSION:2.0
BEGIN:VEVENT
DESCRIPTION:Details:\nhttps://bbyo.org/bbyo-near-you/regions/great-midwest
 -region/regional-board-bonding
DTEND:20200907T150000
DTSTAMP:20260423T195523Z
DTSTART:20200907T120000
LOCATION:Katzenstein Household
SEQUENCE:0
SUMMARY:Regional Board Bonding
UID:1b0c69eb-a702-4562-9c30-cb8ecfbef0f0
END:VEVENT
END:VCALENDAR
