BEGIN:VCALENDAR
PRODID:-//github.com/rianjs/ical.net//NONSGML ical.net 4.0//EN
VERSION:2.0
BEGIN:VEVENT
DESCRIPTION:Details:\nhttps://bbyo.org/bbyo-near-you/regions/northern-regi
 on-east-baltimore-council/council-families-program
DTEND:20230312T150000
DTSTAMP:20260423T114340Z
DTSTART:20230312T130000
LOCATION:JCC Teen Lounge
SEQUENCE:0
SUMMARY:Council Families Program
UID:128bc5a8-5999-4426-9bfc-1222078253ff
END:VEVENT
END:VCALENDAR
