BEGIN:VCALENDAR
PRODID:-//github.com/rianjs/ical.net//NONSGML ical.net 4.0//EN
VERSION:2.0
BEGIN:VEVENT
DESCRIPTION:Details:\nhttps://bbyo.org/bbyo-near-you/regions/michigan-regi
 on/chapter-board-training
DTEND:20220911T170000
DTSTAMP:20260419T160031Z
DTSTART:20220911T130000
LOCATION:Farmington Hills Michigan
SEQUENCE:0
SUMMARY:Chapter Board Training
UID:b0ee3052-7a66-4647-a0e2-d4659f783a54
END:VEVENT
END:VCALENDAR
