BEGIN:VCALENDAR
PRODID:-//github.com/rianjs/ical.net//NONSGML ical.net 4.0//EN
VERSION:2.0
BEGIN:VEVENT
DESCRIPTION:Details:\nhttps://bbyo.org/bbyo-near-you/regions/central-regio
 n-west/crw-el-al-s-purim-palooza
DTEND:20180303T000100
DTSTAMP:20260423T200219Z
DTSTART;VALUE=DATE:20180303
LOCATION:
SEQUENCE:0
SUMMARY:CRW: El al's Purim Palooza
UID:e455cf78-70ee-4e1e-8406-95afb21488d8
END:VEVENT
END:VCALENDAR
