BEGIN:VCALENDAR
PRODID:-//github.com/rianjs/ical.net//NONSGML ical.net 4.0//EN
VERSION:2.0
BEGIN:VEVENT
DESCRIPTION:Details:\nhttps://bbyo.org/bbyo-near-you/regions/northern-regi
 on-east-baltimore-council/baltimore-council-convention-chofesh-hangout-gr
 oup
DTEND:20210424T173000
DTSTAMP:20260422T202506Z
DTSTART:20210424T160000
LOCATION:Lutherville Maryland
SEQUENCE:0
SUMMARY:Baltimore Council Convention Chofesh: Hangout Group 1
UID:e8d61941-ce97-44b9-99a4-ba6ca0a7e3fd
END:VEVENT
END:VCALENDAR
