BEGIN:VCALENDAR
PRODID:-//github.com/rianjs/ical.net//NONSGML ical.net 4.0//EN
VERSION:2.0
BEGIN:VEVENT
DESCRIPTION:Details:\nhttps://bbyo.org/bbyo-near-you/regions/hudson-valley
 -region/end-of-semester-pool-party\n\nSummary:\nJoin us for our End of Se
 mester Members Only Pool Party!
DTEND:20160605T160000
DTSTAMP:20260425T200922Z
DTSTART:20160605T130000
LOCATION:Disclosed Upon Registration
SEQUENCE:0
SUMMARY:End of Semester Pool Party
UID:8dfeb8a1-c4d0-41f8-be3f-85351e8ae147
END:VEVENT
END:VCALENDAR
