BEGIN:VCALENDAR
PRODID:-//github.com/rianjs/ical.net//NONSGML ical.net 4.0//EN
VERSION:2.0
BEGIN:VEVENT
DESCRIPTION:Details:\nhttps://bbyo.org/bbyo-near-you/regions/evergreen-reg
 ion/seattle-bbyo-j-serve
DTEND:20240417T193000
DTSTAMP:20260425T235136Z
DTSTART:20240417T173000
LOCATION:Seattle Washington
SEQUENCE:0
SUMMARY:Seattle BBYO J-Serve
UID:756744a9-4963-4c0d-b09c-d398701277d5
END:VEVENT
END:VCALENDAR
