BEGIN:VCALENDAR
PRODID:-//github.com/rianjs/ical.net//NONSGML ical.net 4.0//EN
VERSION:2.0
BEGIN:VEVENT
DESCRIPTION:Details:\nhttps://bbyo.org/bbyo-near-you/regions/lonestar-regi
 on/taste-of-bbg-graffiti-wall-tour\n\nSummary:\nGet ready for an #instawo
 rthy photo experience with BBG! We are taking buses to some of Houston's 
 trendiest graffiti walls for photo shoots\, fun\, and snacks with Jewish 
 girls from all over t
DTEND:20191013T163000
DTSTAMP:20260426T030257Z
DTSTART:20191013T140000
LOCATION:Houston Texas
SEQUENCE:0
SUMMARY:Taste of BBG: Graffiti Wall Tour
UID:972218d5-edb4-44cd-b774-7be094bb6d3f
END:VEVENT
END:VCALENDAR
