BEGIN:VCALENDAR
PRODID:-//github.com/rianjs/ical.net//NONSGML ical.net 4.0//EN
VERSION:2.0
BEGIN:VEVENT
DESCRIPTION:Details:\nhttps://bbyo.org/bbyo-near-you/regions/mid-america-r
 egion-st-louis-council/st-louis-chapter-meet-ups-sept-22-2021
DTEND:20210922T210000
DTSTAMP:20260424T063622Z
DTSTART:20210922T200000
LOCATION:JCC West
SEQUENCE:0
SUMMARY:St Louis Chapter Meet Ups Sept 22 2021
UID:a6d92762-660c-4a63-ab40-6b20063c9c7a
END:VEVENT
END:VCALENDAR
