BEGIN:VCALENDAR
PRODID:-//github.com/rianjs/ical.net//NONSGML ical.net 4.0//EN
VERSION:2.0
BEGIN:VEVENT
DESCRIPTION:Details:\nhttps://bbyo.org/bbyo-near-you/regions/keystone-moun
 tain-region/kmr-tournies-2016-(pc-3010)\n\nSummary:\nGet ready to compete
  against the other chapters in the region for the 1st place award through
  sports\, trivia\, songs\, and more. Who will the winner be?! Contact Dan
 i Rabin or Zack Miller with
DTEND:20161113T110000
DTSTAMP:20260423T200441Z
DTSTART:20161111T170000
LOCATION:South Hills JCC
SEQUENCE:0
SUMMARY:KMR Tournies 2016 (PC 3010)
UID:52c81b7e-519b-4108-b3d1-8a3dbe771a5e
END:VEVENT
END:VCALENDAR
