BEGIN:VCALENDAR
PRODID:-//github.com/rianjs/ical.net//NONSGML ical.net 4.0//EN
VERSION:2.0
BEGIN:VEVENT
DESCRIPTION:Details:\nhttps://bbyo.org/bbyo-near-you/regions/big-apple-reg
 ion/bar-kickoff-2016
DTEND:20160925T000100
DTSTAMP:20260426T030602Z
DTSTART;VALUE=DATE:20160925
LOCATION:
SEQUENCE:0
SUMMARY:Bar Kickoff 2016
UID:d9ac3fbf-257d-40f6-a7ad-2e582963d560
END:VEVENT
END:VCALENDAR
