BEGIN:VCALENDAR
PRODID:-//github.com/rianjs/ical.net//NONSGML ical.net 4.0//EN
VERSION:2.0
BEGIN:VEVENT
DESCRIPTION:Details:\nhttps://bbyo.org/bbyo-near-you/regions/big-apple-reg
 ion/temple-beth-sholom-tc-kickoff
DTEND;VALUE=DATE:20051216
DTSTAMP:20260423T133829Z
DTSTART:20051214T180000
LOCATION:Temple Beth Sholom
SEQUENCE:0
SUMMARY:Temple Beth Sholom TC Kickoff
UID:7be35947-8e02-42d9-8996-f6566504da45
END:VEVENT
END:VCALENDAR
