BEGIN:VCALENDAR
PRODID:-//github.com/rianjs/ical.net//NONSGML ical.net 4.0//EN
VERSION:2.0
BEGIN:VEVENT
DESCRIPTION:Details:\nhttps://bbyo.org/bbyo-near-you/regions/evergreen-reg
 ion/evergreen-regional-board-overnight-2
DTEND;VALUE=DATE:20180107
DTSTAMP:20260423T114340Z
DTSTART;VALUE=DATE:20180105
LOCATION:
SEQUENCE:0
SUMMARY:Evergreen Regional Board Overnight #2
UID:0b550c3d-e545-4ddf-8d34-437072faf094
END:VEVENT
END:VCALENDAR
