BEGIN:VCALENDAR
PRODID:-//github.com/rianjs/ical.net//NONSGML ical.net 4.0//EN
VERSION:2.0
BEGIN:VEVENT
DESCRIPTION:Details:\nhttps://bbyo.org/bbyo-near-you/regions/delta-region/
 csr-ic-spirit-pack-2016-1000
DTEND:20160211T150000
DTSTAMP:20260425T183357Z
DTSTART:20160211T150000
LOCATION:
SEQUENCE:0
SUMMARY:CSR IC Spirit Pack 2016-1000
UID:9c724dd1-460a-48b0-8ea9-8d233f38ede9
END:VEVENT
END:VCALENDAR
