BEGIN:VCALENDAR
PRODID:-//github.com/rianjs/ical.net//NONSGML ical.net 4.0//EN
VERSION:2.0
BEGIN:VEVENT
DESCRIPTION:Details:\nhttps://bbyo.org/bbyo-near-you/regions/big-apple-reg
 ion/marks-jch-13th-annual-brooklyn-mitzvah-day-2019
DTEND:20190407T150000
DTSTAMP:20260423T195259Z
DTSTART:20190406T080000
LOCATION:Brooklyn New York
SEQUENCE:0
SUMMARY:Marks JCH 13th Annual Brooklyn Mitzvah Day 2019
UID:4252639f-13f1-470a-9b35-1d10ee2e4268
END:VEVENT
END:VCALENDAR
