BEGIN:VCALENDAR
PRODID:-//github.com/rianjs/ical.net//NONSGML ical.net 4.0//EN
VERSION:2.0
BEGIN:VEVENT
DESCRIPTION:Details:\nhttps://bbyo.org/bbyo-near-you/regions/nassau-suffol
 k-region/steerers-meeting-(1)\n\nSummary:\nSpring Convention Planning
DTEND;VALUE=DATE:20060227
DTSTAMP:20260424T183456Z
DTSTART;VALUE=DATE:20060227
LOCATION:NSR BBYO
SEQUENCE:0
SUMMARY:Steerers Meeting
UID:834680d8-fe83-4ace-b287-6effaaef1f76
END:VEVENT
END:VCALENDAR
