BEGIN:VCALENDAR
PRODID:-//github.com/rianjs/ical.net//NONSGML ical.net 4.0//EN
VERSION:2.0
BEGIN:VEVENT
DESCRIPTION:Details:\nhttps://bbyo.org/bbyo-near-you/regions/northern-regi
 on-east-dc-council/dc-council-convention-2024-(standard-pricing)
DTEND:20240421T120000
DTSTAMP:20260426T030219Z
DTSTART:20240419T163000
LOCATION:Specific location information will be sent to confirmed registran
 ts the week of Convention)
SEQUENCE:0
SUMMARY:DC Council Convention 2024 (Standard Pricing)
UID:f35212b7-fee2-4f93-8b3d-bd43e64d6bc8
END:VEVENT
END:VCALENDAR
