BEGIN:VCALENDAR
PRODID:-//github.com/rianjs/ical.net//NONSGML ical.net 4.0//EN
VERSION:2.0
BEGIN:VEVENT
DESCRIPTION:Details:\nhttps://bbyo.org/bbyo-near-you/regions/wisconsin-reg
 ion/wi-src-2019-camp-src\n\nSummary:\nJoin us May 24-26th at the beautifu
 l Beber Camp for Spring Regional Convention. \n
DTEND:20190526T120000
DTSTAMP:20260419T172824Z
DTSTART:20190524T160000
LOCATION:
SEQUENCE:0
SUMMARY:WI - SRC 2019 - CAMP SRC
UID:0dcc5f6b-9361-4ec6-b127-f50e1ff15d6b
END:VEVENT
END:VCALENDAR
