BEGIN:VCALENDAR
PRODID:-//github.com/rianjs/ical.net//NONSGML ical.net 4.0//EN
VERSION:2.0
BEGIN:VEVENT
DESCRIPTION:Details:\nhttps://bbyo.org/bbyo-near-you/regions/lake-ontario-
 region/lor-2016-08-31-bbyo-open-house
DTEND:20160831T210000
DTSTAMP:20260420T162204Z
DTSTART:20160831T190000
LOCATION:Yogurty's (Dufferin and Autumn Hill)
SEQUENCE:0
SUMMARY:LOR 2016-08-31 - BBYO Open House
UID:3c5534cc-35df-4f4d-b01a-98504531767c
END:VEVENT
END:VCALENDAR
