BEGIN:VCALENDAR
PRODID:-//github.com/rianjs/ical.net//NONSGML ical.net 4.0//EN
VERSION:2.0
BEGIN:VEVENT
DESCRIPTION:Details:\nhttps://bbyo.org/bbyo-near-you/regions/michigan-regi
 on/mi-region-azaa-flag-football-2016-late-registratio\n\nSummary:\nAZAA F
 lag Football Late Registration and Non-member registration
DTEND:20161103T130000
DTSTAMP:20260422T101236Z
DTSTART:20160918T110000
LOCATION:OLMS
SEQUENCE:0
SUMMARY:MI Region AZAA Flag Football 2016 Late Registration- PC5000
UID:0a8e297a-5e13-4804-96f9-5c5ba1c796c3
END:VEVENT
END:VCALENDAR
