BEGIN:VCALENDAR
PRODID:-//github.com/rianjs/ical.net//NONSGML ical.net 4.0//EN
VERSION:2.0
BEGIN:VEVENT
DESCRIPTION:Details:\nhttps://bbyo.org/bbyo-near-you/regions/connecticut-v
 alley-region/bbyo-dance-with-manhattan-and-ner!\n\nSummary:\nJoin NER and
  Manhattan BBYO to meet Jewish teens from around the Tri-state area! Dinn
 er will be served!\n\nLive DJ all night.
DTEND:20191109T230000
DTSTAMP:20260422T202650Z
DTSTART:20191109T193000
LOCATION:Bradley Airport Sheraton
SEQUENCE:0
SUMMARY:BBYO Dance with Manhattan and NER!
UID:99983ac9-48be-4fc2-a961-4151cf6d7031
END:VEVENT
END:VCALENDAR
