BEGIN:VCALENDAR
PRODID:-//github.com/rianjs/ical.net//NONSGML ical.net 4.0//EN
VERSION:2.0
BEGIN:VEVENT
DESCRIPTION:Details:\nhttps://bbyo.org/bbyo-near-you/regions/evergreen-reg
 ion/seattle-global-shabbat-challah-bake
DTEND:20171209T000100
DTSTAMP:20260424T215612Z
DTSTART;VALUE=DATE:20171209
LOCATION:
SEQUENCE:0
SUMMARY:Seattle Global Shabbat Challah Bake
UID:d0b01176-141f-4db9-993e-1564d119a4ac
END:VEVENT
END:VCALENDAR
