BEGIN:VCALENDAR
PRODID:-//github.com/rianjs/ical.net//NONSGML ical.net 4.0//EN
VERSION:2.0
BEGIN:VEVENT
DESCRIPTION:Details:\nhttps://bbyo.org/bbyo-near-you/regions/connecticut-v
 alley-region/spring-kallah-senior-extension-(2-to-a-room)
DTEND:20230430T140000
DTSTAMP:20260424T183718Z
DTSTART:20230427T170000
LOCATION:
SEQUENCE:0
SUMMARY:Spring Kallah Senior Extension (2 to a room)
UID:eb59ba8a-b545-45e6-b2b7-cc517b7bef1b
END:VEVENT
END:VCALENDAR
