BEGIN:VCALENDAR
PRODID:-//github.com/rianjs/ical.net//NONSGML ical.net 4.0//EN
VERSION:2.0
BEGIN:VEVENT
DESCRIPTION:Details:\nhttps://bbyo.org/bbyo-near-you/regions/mountain-regi
 on/phoenix-ic-registration-night
DTEND:20230928T183000
DTSTAMP:20260422T084849Z
DTSTART:20230928T170000
LOCATION:Scottsdale Arizona
SEQUENCE:0
SUMMARY:Phoenix IC Registration Night
UID:413d3d34-6d8e-4d93-b054-52fd3b4d40fb
END:VEVENT
END:VCALENDAR
