BEGIN:VCALENDAR
PRODID:-//github.com/rianjs/ical.net//NONSGML ical.net 4.0//EN
VERSION:2.0
BEGIN:VEVENT
DESCRIPTION:Details:\nhttps://bbyo.org/bbyo-near-you/regions/greater-jerse
 y-region/regional-leadership-training-conference-2024-chapt\n\nSummary:\n
 Attention all 2024/25 CHAPTER PRESIDENTS! This is your registration link 
 for Regional Leadership Training Conference (RLTC).  We will spend 1.5 da
 ys together training forf an incredible programming year ahead!! This wil
 l be an incredible opportunity to learn\, brainstorm and bond with your c
 ounterparts and co's!! \n\nWhen: Monday\, August 26th\, 10am - Tuesday\, 
 August 27th\, 4:30pm\n\nWhere: We will be at a hotel in the Meadowlands a
 rea (location to be shared as we get closer.)\n\nWhat Will be provided:\n
 \nMonday\, August 26th- Training workshops and preparation for all leader
 s to join for training on Tuesday\, lunch & dinner\, separates and plenty
  of bonding time\,with all council board and chapter presidents!\n\nTuesd
 ay\, August 27th- Hotel provided breakfast buffet\, lunch\, and training 
 with all leaders of the region! \n\nTransportation: There will be no busi
 ng provided on Monday\, August 26th to the convention.  Please remember\,
  teen driving is NOT allowed for overnights. We will be providing busing 
 to Marlboro ONLY for the return trip on Tuesday\, August 27th. \n\nCost f
 or this convention is $300.  Need based scholarships are available. You c
 an apply by clicking on and submitting THIS FORM by Monday\, July 15th. S
 cholarship recipients will be notified on a rolling basis. \n\nCancellati
 ons after the cut-off date of July 24th will not be eligible for a refund
 . All other cancellations prior will receive a refund minus a $36 adminis
 trative fee. \n\n***NOTE: THIS IS THE ONLY REGISTRATION YOU NEED TO COMPL
 ETE FOR RLTC!!!*****
DTEND:20240827T163000
DTSTAMP:20260422T101236Z
DTSTART:20240826T100000
LOCATION:Secaucus New Jersey
SEQUENCE:0
SUMMARY:Regional Leadership Training Conference 2024 - CHAPTER PRESIDENTS 
 ONLY
UID:f52b38a4-97e2-414f-a20c-0af5698e4e9a
END:VEVENT
END:VCALENDAR
