BEGIN:VCALENDAR
PRODID:-//github.com/rianjs/ical.net//NONSGML ical.net 4.0//EN
VERSION:2.0
BEGIN:VEVENT
DESCRIPTION:Details:\nhttps://bbyo.org/bbyo-near-you/regions/ohio-northern
 -region/bbyo-onr-camp-visit
DTEND;VALUE=DATE:20150720
DTSTAMP:20260422T101255Z
DTSTART;VALUE=DATE:20150720
LOCATION:
SEQUENCE:0
SUMMARY:BBYO ONR Camp Visit
UID:634fec4a-b4ea-425d-a5e6-02dddcecc4e6
END:VEVENT
END:VCALENDAR
