BEGIN:VCALENDAR
PRODID:-//github.com/rianjs/ical.net//NONSGML ical.net 4.0//EN
VERSION:2.0
BEGIN:VEVENT
DESCRIPTION:Details:\nhttps://bbyo.org/bbyo-near-you/regions/michigan-regi
 on/regional-kickoff-m1-concourse
DTEND:20220910T220000
DTSTAMP:20260425T182752Z
DTSTART:20220910T193000
LOCATION:M1 Concourse
SEQUENCE:0
SUMMARY:Regional Kickoff M1 Concourse
UID:42af5e97-13b4-4faf-b8ee-7e0b8bfe78bf
END:VEVENT
END:VCALENDAR
