BEGIN:VCALENDAR
PRODID:-//github.com/rianjs/ical.net//NONSGML ical.net 4.0//EN
VERSION:2.0
BEGIN:VEVENT
DESCRIPTION:Details:\nhttps://bbyo.org/bbyo-near-you/regions/greater-jerse
 y-region/gjhrr-matzah-ball-marlboro-bus-and-event\n\nSummary:\nJoin GJHRR
  for the final dance of the year on June 1st\, for Grades 8-10.  This sig
 nup is for event and MARLBORO BUS ONLY. If you need a different bus or no
  bus/event only\, please sign-up under the correct link. We will have bus
 es leaving from Paramus and Marlboro only. \n\nWhere: Short Hills\, NJ (L
 ocation Details to follow upon registration)\nWhen: June 1st\, 7pm-10pm\n
 Cost: $40 \n\nThere will be no refunds provided for this dance. There wil
 l be no dinner served at this event.\n\nShould you have any questions\, p
 lease reach out to the regional office at gjhrr@bbyo.org.\n\nPlease remem
 ber no water bottles\, backpacks\, or juuls will be permitted in the danc
 e or on the bus.
DTEND:20190601T220000
DTSTAMP:20260421T073232Z
DTSTART:20190601T190000
LOCATION:Short Hills New Jersey
SEQUENCE:0
SUMMARY:GJHRR Matzah Ball - MARLBORO BUS AND EVENT
UID:72809d8c-6652-4e53-a735-900fdea265fc
END:VEVENT
END:VCALENDAR
