BEGIN:VCALENDAR
PRODID:-//github.com/rianjs/ical.net//NONSGML ical.net 4.0//EN
VERSION:2.0
BEGIN:VEVENT
DESCRIPTION:Details:\nhttps://bbyo.org/bbyo-near-you/regions/kentucky-indi
 ana-ohio-region/presidents-network-call-march
DTEND:20210309T213000
DTSTAMP:20260423T200906Z
DTSTART:20210309T203000
LOCATION:
SEQUENCE:0
SUMMARY:Presidents Network Call- March
UID:3604234b-6a65-4dea-8f96-a6e445a29fcb
END:VEVENT
END:VCALENDAR
