BEGIN:VCALENDAR
PRODID:-//github.com/rianjs/ical.net//NONSGML ical.net 4.0//EN
VERSION:2.0
BEGIN:VEVENT
DESCRIPTION:Details:\nhttps://bbyo.org/bbyo-near-you/regions/northern-regi
 on-east-dc-council/dc-council-fall-intake-night-1\n\nSummary:\nThis event
  is for prospective members to meet all of the BBYO DC Council chapters i
 n Montgomery County\, Howard County\, Fredrick County and the District! T
 eens will have the opportunity to vi
DTEND:20200908T210000
DTSTAMP:20260419T145829Z
DTSTART:20200908T190000
LOCATION:BBYO OnDemand
SEQUENCE:0
SUMMARY:DC Council Fall Intake Night #1
UID:1442fa4d-258e-437a-aa7b-fa3ed5de11c0
END:VEVENT
END:VCALENDAR
