BEGIN:VCALENDAR
PRODID:-//github.com/rianjs/ical.net//NONSGML ical.net 4.0//EN
VERSION:2.0
BEGIN:VEVENT
DESCRIPTION:Details:\nhttps://bbyo.org/bbyo-near-you/regions/lonestar-regi
 on/litzor/litzor-senior-life-w-ranaan
DTEND:20240518T210000
DTSTAMP:20260421T011343Z
DTSTART:20240518T180000
LOCATION:Abby's Dad's Office
SEQUENCE:0
SUMMARY:Litzor Senior Life w/ Ranaan
UID:b9c1da05-8edd-44f4-8a48-6f3c822eb4ae
END:VEVENT
END:VCALENDAR
