BEGIN:VCALENDAR
PRODID:-//github.com/rianjs/ical.net//NONSGML ical.net 4.0//EN
VERSION:2.0
BEGIN:VEVENT
DESCRIPTION:Details:\nhttps://bbyo.org/bbyo-near-you/regions/great-midwest
 -region/gmr-spring-luncheon-2017
DTEND:20170430T000100
DTSTAMP:20260422T202317Z
DTSTART;VALUE=DATE:20170430
LOCATION:
SEQUENCE:0
SUMMARY:GMR Spring Luncheon 2017
UID:5a67d75c-e5dd-4c36-94e4-2754a7b4ccac
END:VEVENT
END:VCALENDAR
