BEGIN:VCALENDAR
PRODID:-//github.com/rianjs/ical.net//NONSGML ical.net 4.0//EN
VERSION:2.0
BEGIN:VEVENT
DESCRIPTION:Details:\nhttps://bbyo.org/bbyo-near-you/regions/greater-jerse
 y-region/gjhrr-kickoff-dance-2016-no-busing-(pc-5000)\n\nSummary:\nWe are
  so excited to see you at our 2016 Kickoff Dance! Any Jewish non-members 
 are welcome! Make sure to bring your dancing shoes! \n\nNo water bottles 
 will be allowed into the dance.  Refun
DTEND:20161008T220000
DTSTAMP:20260423T200724Z
DTSTART:20161008T190000
LOCATION:Whippany JCC
SEQUENCE:0
SUMMARY:GJHRR Kickoff Dance 2016 NO BUSING (PC 5000)
UID:2ab1613a-7172-4be2-91c5-eeb091cc1923
END:VEVENT
END:VCALENDAR
