BEGIN:VCALENDAR
PRODID:-//github.com/rianjs/ical.net//NONSGML ical.net 4.0//EN
VERSION:2.0
BEGIN:VEVENT
DESCRIPTION:Details:\nhttps://bbyo.org/bbyo-near-you/regions/kentucky-indi
 ana-ohio-region/kio-cincy-bbyo-boat-party
DTEND:20220326T220000
DTSTAMP:20260421T223735Z
DTSTART:20220326T190000
LOCATION:Ohio River
SEQUENCE:0
SUMMARY:KIO/Cincy BBYO Boat Party
UID:b2a00c9c-1d0a-47ac-9d11-a85726839871
END:VEVENT
END:VCALENDAR
