BEGIN:VCALENDAR
PRODID:-//github.com/rianjs/ical.net//NONSGML ical.net 4.0//EN
VERSION:2.0
BEGIN:VEVENT
DESCRIPTION:Details:\nhttps://bbyo.org/bbyo-near-you/regions/mountain-regi
 on/ice-skating-kickoff-event!\n\nSummary:\nJoin all the Las Vegas BBYO ch
 apters\, January 14th for a fun night of ice skating at the Las Vegas Ice
  center. Cost for admission is $8.
DTEND:20170114T210000
DTSTAMP:20260423T043106Z
DTSTART:20170114T193000
LOCATION:Las Vegas Ice Center
SEQUENCE:0
SUMMARY:Ice Skating Kickoff Event!
UID:14cddfc4-af4b-46a8-a7c2-ce00db2191db
END:VEVENT
END:VCALENDAR
