BEGIN:VCALENDAR
PRODID:-//github.com/rianjs/ical.net//NONSGML ical.net 4.0//EN
VERSION:2.0
BEGIN:VEVENT
DESCRIPTION:Details:\nhttps://bbyo.org/bbyo-near-you/regions/greater-jerse
 y-region/(int)-cltc-1-(2016)\n\nSummary:\nChapter Leadership Training Con
 ference\, CLTC\, is designed for AZA and BBG members who want to learn ho
 w to build and strengthen their chapter. At CLTC\, teens have fun with pe
 ers from acro
DTEND:20160619T090000
DTSTAMP:20260421T083016Z
DTSTART:20160607T090000
LOCATION:Beber Camp
SEQUENCE:0
SUMMARY:CLTC 1
UID:78dd3f82-9b36-4232-9dcb-ff400e33d032
END:VEVENT
END:VCALENDAR
