BEGIN:VCALENDAR
PRODID:-//github.com/rianjs/ical.net//NONSGML ical.net 4.0//EN
VERSION:2.0
BEGIN:VEVENT
DESCRIPTION:Details:\nhttps://bbyo.org/bbyo-near-you/regions/gold-coast-re
 gion/chapter-exec-training-(p2p)-option-1
DTEND:20240811T143000
DTSTAMP:20260426T030436Z
DTSTART:20240811T110000
LOCATION:Congregation Kol Tikvah
SEQUENCE:0
SUMMARY:Chapter Exec Training (P2P) Option 1
UID:809f14b8-82cd-47bc-adb7-ea5c822abba8
END:VEVENT
END:VCALENDAR
