BEGIN:VCALENDAR
PRODID:-//github.com/rianjs/ical.net//NONSGML ical.net 4.0//EN
VERSION:2.0
BEGIN:VEVENT
DESCRIPTION:Details:\nhttps://bbyo.org/bbyo-near-you/regions/north-florida
 -region/nfr-spring-kickoff\n\nSummary:\nNFR has rented out a skating rink
  for our Regional Spring Kickoff and the event is '80's themed!\n\nPrice 
 includes 2 hours of roller skating along with 1 non-refillable drink and 
 choice of a slice of pizza or a hot dog. There is also a snackbar and gam
 es\, so please bring extra money with you if you would like to purchase f
 ood or games.\n\nWe are creating a playlist and invite you to give us you
 r song recommendations. Please send them to Kylie at nfrbbgnsiah@gmail.co
 m or text her.\n\nTransportation will be provided from Tampa to Orlando a
 nd back. Please coordinate with other teens for a carpool if you need tra
 nsportation to the event or to Tampa.
DTEND:20230205T190000
DTSTAMP:20260423T015619Z
DTSTART:20230205T170000
LOCATION:Casselberry Florida
SEQUENCE:0
SUMMARY:NFR Spring Kickoff
UID:c5d33158-8fda-4ff9-aa6f-70d33b85e973
END:VEVENT
END:VCALENDAR
