BEGIN:VCALENDAR
PRODID:-//github.com/rianjs/ical.net//NONSGML ical.net 4.0//EN
VERSION:2.0
BEGIN:VEVENT
DESCRIPTION:Details:\nhttps://bbyo.org/bbyo-near-you/regions/kentucky-indi
 ana-ohio-region/kio-columbus-superbowl-party
DTEND:20180204T000100
DTSTAMP:20260422T101121Z
DTSTART;VALUE=DATE:20180204
LOCATION:
SEQUENCE:0
SUMMARY:KIO: Columbus Superbowl Party
UID:d0692bed-1da1-46bc-b609-0a052a23c37e
END:VEVENT
END:VCALENDAR
