BEGIN:VCALENDAR
PRODID:-//github.com/rianjs/ical.net//NONSGML ical.net 4.0//EN
VERSION:2.0
BEGIN:VEVENT
DESCRIPTION:Details:\nhttps://bbyo.org/bbyo-near-you/regions/greater-atlan
 ta-region/talent-show
DTEND:20060128T103000
DTSTAMP:20260425T183157Z
DTSTART:20060128T073000
LOCATION:The Atlanta Council BBYO Talent Show is a night full of excitemen
 t with great performances\, fabulous hosts and seasoned judges.  Cash pri
 zes are awarded to 1st\, 2nd and 3rd place winners.
SEQUENCE:0
SUMMARY:Talent Show
UID:3a467857-cb12-470a-827f-2fad5d51cb53
END:VEVENT
END:VCALENDAR
