BEGIN:VCALENDAR
PRODID:-//github.com/rianjs/ical.net//NONSGML ical.net 4.0//EN
VERSION:2.0
BEGIN:VEVENT
DESCRIPTION:Details:\nhttps://bbyo.org/bbyo-near-you/regions/mountain-regi
 on/east-valley-spring-parent-information-session
DTEND:20240123T200000
DTSTAMP:20260423T195725Z
DTSTART:20240123T191500
LOCATION:
SEQUENCE:0
SUMMARY:East Valley Spring Parent Information Session
UID:5ad762f9-a0c3-4aab-a12c-a9f492317f96
END:VEVENT
END:VCALENDAR
