BEGIN:VCALENDAR
PRODID:-//github.com/rianjs/ical.net//NONSGML ical.net 4.0//EN
VERSION:2.0
BEGIN:VEVENT
DESCRIPTION:Details:\nhttps://bbyo.org/bbyo-near-you/regions/pacific-weste
 rn-region/ic-prep-call
DTEND:20220203T200000
DTSTAMP:20260423T002002Z
DTSTART:20220203T190000
LOCATION:ZOOM
SEQUENCE:0
SUMMARY:IC Prep Call
UID:8b8a1f6f-4ecc-456a-8f35-c5be4d87002a
END:VEVENT
END:VCALENDAR
