BEGIN:VCALENDAR
PRODID:-//github.com/rianjs/ical.net//NONSGML ical.net 4.0//EN
VERSION:2.0
BEGIN:VEVENT
DESCRIPTION:Details:\nhttps://bbyo.org/bbyo-near-you/regions/north-texas-o
 klahoma-region/nto-spring-kickoff-sleepy-skating
DTEND:20240120T210000
DTSTAMP:20260423T002201Z
DTSTART:20240120T191500
LOCATION:StarCenter - Farmers Branch
SEQUENCE:0
SUMMARY:NTO Spring Kickoff - Sleepy Skating
UID:457cfde8-fecf-4624-a451-d78b86508575
END:VEVENT
END:VCALENDAR
