BEGIN:VCALENDAR
PRODID:-//github.com/rianjs/ical.net//NONSGML ical.net 4.0//EN
VERSION:2.0
BEGIN:VEVENT
DESCRIPTION:Details:\nhttps://bbyo.org/bbyo-near-you/regions/keystone-moun
 tain-region/kmr-trivia-night-kickoff\n\nSummary:\nJoin KMR for a Virtual 
 Trivia Night Kickoff! Teens will compete to see has the most knowledge ab
 out pop culture\, the city of Pittsburgh\, and more! We look forward to s
 ee you there
DTEND:20201017T200000
DTSTAMP:20260420T180848Z
DTSTART:20201017T190000
LOCATION:Zoom
SEQUENCE:0
SUMMARY:KMR Trivia Night Kickoff
UID:d454bb4a-b8b9-472b-8110-d5e700f0b19e
END:VEVENT
END:VCALENDAR
