BEGIN:VCALENDAR
PRODID:-//github.com/rianjs/ical.net//NONSGML ical.net 4.0//EN
VERSION:2.0
BEGIN:VEVENT
DESCRIPTION:Details:\nhttps://bbyo.org/bbyo-near-you/regions/great-midwest
 -region/glow-run-mm16
DTEND;VALUE=DATE:20160522
DTSTAMP:20260423T002457Z
DTSTART;VALUE=DATE:20160522
LOCATION:
SEQUENCE:0
SUMMARY:Glow Run MM16
UID:89593047-2407-467f-a89b-f37e1d0501cc
END:VEVENT
END:VCALENDAR
