BEGIN:VCALENDAR
PRODID:-//github.com/rianjs/ical.net//NONSGML ical.net 4.0//EN
VERSION:2.0
BEGIN:VEVENT
DESCRIPTION:Details:\nhttps://bbyo.org/bbyo-near-you/regions/manhattan-reg
 ion/mhr-spring-convention-2023!
DTEND:20230521T160000
DTSTAMP:20260422T115020Z
DTSTART:20230519T123000
LOCATION:The Berkshires\, NY
SEQUENCE:0
SUMMARY:MHR Spring Convention 2023!
UID:7fa51df2-e54e-440e-8f7e-0c34cb1cf75f
END:VEVENT
END:VCALENDAR
