BEGIN:VCALENDAR
PRODID:-//github.com/rianjs/ical.net//NONSGML ical.net 4.0//EN
VERSION:2.0
BEGIN:VEVENT
DESCRIPTION:Details:\nhttps://bbyo.org/bbyo-near-you/regions/lake-ontario-
 region/lor-2016-03-02-regional-business-meetings
DTEND:20160302T200000
DTSTAMP:20260424T150557Z
DTSTART:20160302T183000
LOCATION:Schwartz/Reisman Centre
SEQUENCE:0
SUMMARY:LOR 2016-03-02 - Regional Business Meetings
UID:04836fff-2e32-428c-a05a-5f714b002536
END:VEVENT
END:VCALENDAR
