BEGIN:VCALENDAR
PRODID:-//github.com/rianjs/ical.net//NONSGML ical.net 4.0//EN
VERSION:2.0
BEGIN:VEVENT
DESCRIPTION:Details:\nhttps://bbyo.org/bbyo-near-you/regions/lake-ontario-
 region/lor-2017-03-12-volunteer-opp-src-purim-party
DTEND:20170312T160000
DTSTAMP:20260422T101413Z
DTSTART:20170312T123000
LOCATION:Schwartz/Reisman Centre
SEQUENCE:0
SUMMARY:LOR 2017-03-12 - VOLUNTEER OPP SRC Purim Party
UID:4a5c7fab-1993-43a8-bf85-5783e466bd6d
END:VEVENT
END:VCALENDAR
