BEGIN:VCALENDAR
PRODID:-//github.com/rianjs/ical.net//NONSGML ical.net 4.0//EN
VERSION:2.0
BEGIN:VEVENT
DESCRIPTION:Details:\nhttps://bbyo.org/bbyo-near-you/regions/greater-atlan
 ta-region/aza-wing-night-and-trivia\n\nSummary:\nJoin us as we battle eac
 h other in trivia while chowing down on wings.  Chapters will gather at a
  members house for wings and then zoom into a call for interchapter trivi
 a.\n\nBring a prospect
DTEND:20201119T200000
DTSTAMP:20260420T132412Z
DTSTART:20201119T183000
LOCATION:
SEQUENCE:0
SUMMARY:AZA Wing Night and Trivia
UID:66105fa7-1fc7-4f12-b209-4759982b3c5d
END:VEVENT
END:VCALENDAR
